BEGIN:VCALENDAR
VERSION:2.0
PRODID:-//Kia Ora Kids at Home Childcare - ECPv6.7.1//NONSGML v1.0//EN
CALSCALE:GREGORIAN
METHOD:PUBLISH
X-WR-CALNAME:Kia Ora Kids at Home Childcare
X-ORIGINAL-URL:https://kiaorakids.co.nz
X-WR-CALDESC:Events for Kia Ora Kids at Home Childcare
REFRESH-INTERVAL;VALUE=DURATION:PT1H
X-Robots-Tag:noindex
X-PUBLISHED-TTL:PT1H
BEGIN:VTIMEZONE
TZID:Pacific/Auckland
BEGIN:STANDARD
TZOFFSETFROM:+1300
TZOFFSETTO:+1200
TZNAME:NZST
DTSTART:20250405T140000
END:STANDARD
BEGIN:DAYLIGHT
TZOFFSETFROM:+1200
TZOFFSETTO:+1300
TZNAME:NZDT
DTSTART:20250927T140000
END:DAYLIGHT
END:VTIMEZONE
BEGIN:VEVENT
DTSTART;TZID=Pacific/Auckland:20250329T090000
DTEND;TZID=Pacific/Auckland:20250329T123000
DTSTAMP:20260420T224701
CREATED:20250320T234619Z
LAST-MODIFIED:20250320T234907Z
UID:14951-1743238800-1743251400@kiaorakids.co.nz
SUMMARY:Mama market
DESCRIPTION:Kia Ora Kids at Home Childcare is excited to be a part of Auckland Mama Markets on Saturday the 29th of March! A great opportunity to come along and learn more about Home-Based Childcare and check out other small businesses with amazing products for your little ones  \nThis is your opportunity to browse and shop new products from a wide range of local small businesses. Come along and check out what’s available. There will be clothing\, feeding equipment\, toys\, books\, teething items\, nursery decor and bedding\, essentials like bibs and LOTS MORE to choose from. All high quality and most can’t be found at bigger retail shops. \n  \n956 Great North Road\, Western Springs\, Auckland 1022 \n  \n  \n 
URL:https://kiaorakids.co.nz/event/mama-market/
LOCATION:956 Great North Road\, Western Springs\, Auckland 1022
CATEGORIES:Parents Playgroup
ATTACH;FMTTYPE=image/png:https://kiaorakids.co.nz/wp-content/uploads/2025/03/AKLmama.png
END:VEVENT
END:VCALENDAR